-0.00000000000000
-0.10000000000000
-0.10000000000000
0.00000000000000
681708.71437504096000
245415.17531919066000
