0.00000000000000
0.10000000000000
0.10000000000000
-0.00000000000000
679792.28562495904000
249140.82468080934000
