-0.00000000000000
-0.10000000000000
-0.10000000000000
0.00000000000000
680569.71437504096000
230812.17531919066000
