-0.00000000000000
-0.10000000000000
-0.10000000000000
0.00000000000000
680582.71437504096000
231847.17531919066000
