-0.00000000000000
-0.10000000000000
-0.10000000000000
0.00000000000000
680586.71437504096000
233553.17531919066000
