0.00000000000000
0.10000000000000
0.10000000000000
-0.00000000000000
678670.28562495904000
236964.82468080934000
