0.00000000000000
0.10000000000000
0.10000000000000
-0.00000000000000
678662.28562495904000
238164.82468080934000
