0.00000000000000
0.10000000000000
0.10000000000000
-0.00000000000000
678675.28562495904000
242179.82468080934000
