-0.00000000000000
-0.10000000000000
-0.10000000000000
0.00000000000000
680605.71437504096000
247974.17531919066000
