-0.00000000000000
-0.10000000000000
-0.10000000000000
0.00000000000000
680606.71437504096000
250822.17531919066000
