0.00000000000000
0.10000000000000
0.10000000000000
-0.00000000000000
677608.28562495904000
230952.82468080934000
