0.00000000000000
0.10000000000000
0.10000000000000
-0.00000000000000
677607.28562495904000
234585.82468080934000
