0.00000000000000
0.10000000000000
0.10000000000000
-0.00000000000000
677595.28562495904000
239791.82468080934000
