0.00000000000000
0.10000000000000
0.10000000000000
-0.00000000000000
677593.28562495904000
240404.82468080934000
