0.00000000000000
0.10000000000000
0.10000000000000
-0.00000000000000
677612.28562495904000
252743.82468080934000
