0.00000000000000
0.10000000000000
0.10000000000000
-0.00000000000000
676468.28562495904000
232186.82468080934000
