0.00000000000000
0.10000000000000
0.10000000000000
-0.00000000000000
676466.28562495904000
238457.82468080934000
