0.00000000000000
0.10000000000000
0.10000000000000
-0.00000000000000
676465.28562495904000
239684.82468080934000
