0.00000000000000
0.10000000000000
0.10000000000000
-0.00000000000000
676475.28562495904000
241903.82468080934000
