0.00000000000000
0.10000000000000
0.10000000000000
-0.00000000000000
676460.28562495904000
244281.82468080934000
