0.00000000000000
0.10000000000000
0.10000000000000
-0.00000000000000
676473.28562495904000
247914.82468080934000
