0.00000000000000
0.10000000000000
0.10000000000000
-0.00000000000000
676472.28562495904000
251312.82468080934000
