0.00000000000000
0.10000000000000
0.10000000000000
-0.00000000000000
675425.28562495904000
230769.82468080934000
