0.00000000000000
0.10000000000000
0.10000000000000
-0.00000000000000
675418.28562495904000
234010.82468080934000
