0.00000000000000
0.10000000000000
0.10000000000000
-0.00000000000000
675407.28562495904000
240446.82468080934000
