0.00000000000000
0.10000000000000
0.10000000000000
-0.00000000000000
675413.28562495904000
241064.82468080934000
