0.00000000000000
0.10000000000000
0.10000000000000
-0.00000000000000
675403.28562495904000
243808.82468080934000
