0.00000000000000
0.10000000000000
0.10000000000000
-0.00000000000000
675405.28562495904000
247628.82468080934000
