0.00000000000000
0.10000000000000
0.10000000000000
-0.00000000000000
675399.28562495904000
251032.82468080934000
