0.00000000000000
0.10000000000000
0.10000000000000
-0.00000000000000
675396.28562495904000
252560.82468080934000
