0.00000000000000
0.10000000000000
0.10000000000000
-0.00000000000000
674304.28562495904000
234281.82468080934000
