0.00000000000000
0.10000000000000
0.10000000000000
-0.00000000000000
674308.28562495904000
236031.82468080934000
