0.00000000000000
0.10000000000000
0.10000000000000
-0.00000000000000
674301.28562495904000
237192.82468080934000
