0.00000000000000
0.10000000000000
0.10000000000000
-0.00000000000000
674297.28562495904000
237843.82468080934000
