0.00000000000000
0.10000000000000
0.10000000000000
-0.00000000000000
674294.28562495904000
242200.82468080934000
