0.00000000000000
0.10000000000000
0.10000000000000
-0.00000000000000
674287.28562495904000
248056.82468080934000
