0.00000000000000
0.10000000000000
0.10000000000000
-0.00000000000000
674272.28562495904000
253146.82468080934000
