0.00000000000000
0.10000000000000
0.10000000000000
-0.00000000000000
673246.28562495904000
235514.82468080934000
