0.00000000000000
0.10000000000000
0.10000000000000
-0.00000000000000
673229.28562495904000
243958.82468080934000
