0.00000000000000
0.10000000000000
0.10000000000000
-0.00000000000000
673223.28562495904000
246194.82468080934000
