0.00000000000000
0.10000000000000
0.10000000000000
-0.00000000000000
673203.28562495904000
251336.82468080934000
