0.00000000000000
0.10000000000000
0.10000000000000
-0.00000000000000
672132.28562495904000
236087.82468080934000
