0.00000000000000
0.10000000000000
0.10000000000000
-0.00000000000000
672126.28562495904000
237265.82468080934000
