0.00000000000000
0.10000000000000
0.10000000000000
-0.00000000000000
672106.28562495904000
242539.82468080934000
