0.00000000000000
0.10000000000000
0.10000000000000
-0.00000000000000
672105.28562495904000
243088.82468080934000
