0.00000000000000
0.10000000000000
0.10000000000000
-0.00000000000000
672103.28562495904000
243566.82468080934000
