0.00000000000000
0.10000000000000
0.10000000000000
-0.00000000000000
672101.28562495904000
253271.82468080934000
