0.00000000000000
0.10000000000000
0.10000000000000
-0.00000000000000
671028.28562495904000
236568.82468080934000
