0.00000000000000
0.10000000000000
0.10000000000000
-0.00000000000000
669874.28562495904000
250563.82468080934000
