0.00000000000000
0.10000000000000
0.10000000000000
-0.00000000000000
669869.28562495904000
251631.82468080934000
